BEGIN:VCALENDAR
VERSION:2.0
PRODID:-//ChamberMaster//Event Calendar 2.0//EN
METHOD:PUBLISH
X-PUBLISHED-TTL:P3D
REFRESH-INTERVAL:P3D
CALSCALE:GREGORIAN
BEGIN:VEVENT
DTSTART:20230602T220000Z
DTEND:20230603T020000Z
X-MICROSOFT-CDO-ALLDAYEVENT:FALSE
SUMMARY:Spring on Main
DESCRIPTION:Join the Downtown Vincennes Association on June 2nd\, 2023\, as they present Spring on Main!\n\n\n\nStroll down Main Street\, and enjoy several activities\, events\, and shops. There will be kids entertainment at Patrick Henry Square\, art galleries\, beer & wine\, food\, live music\, classic vehicles\, and more!
X-ALT-DESC;FMTTYPE=text/html:<span style="font-size:14px\;"><span style="font-family:tahoma\;"><strong><span style="font-size:18px\;">Join the Downtown Vincennes Association on June 2nd\, 2023\, as they present Spring on Main!</span></strong><br />\n<br />\nStroll down Main Street\, and enjoy several activities\, events\, and shops.&nbsp\;There will be kids entertainment at Patrick Henry Square\, art galleries\, beer &amp\; wine\, food\, live music\, classic vehicles\, and more!&nbsp\;</span></span>
LOCATION:Downtown Vincennes\, Indiana
UID:e.3273.2989
SEQUENCE:3
DTSTAMP:20260420T151146Z
URL:http://knoxcountychamber.chambermaster.com/events/details/spring-on-main-2989
END:VEVENT

END:VCALENDAR
